BEGIN:VCALENDAR
VERSION:2.0
PRODID:-//asso du pont - ECPv6.15.20//NONSGML v1.0//EN
CALSCALE:GREGORIAN
METHOD:PUBLISH
X-WR-CALNAME:asso du pont
X-ORIGINAL-URL:https://assodupont.org
X-WR-CALDESC:Évènements pour asso du pont
REFRESH-INTERVAL;VALUE=DURATION:PT1H
X-Robots-Tag:noindex
X-PUBLISHED-TTL:PT1H
BEGIN:VTIMEZONE
TZID:Europe/Paris
BEGIN:DAYLIGHT
TZOFFSETFROM:+0100
TZOFFSETTO:+0200
TZNAME:CEST
DTSTART:20240331T010000
END:DAYLIGHT
BEGIN:STANDARD
TZOFFSETFROM:+0200
TZOFFSETTO:+0100
TZNAME:CET
DTSTART:20241027T010000
END:STANDARD
BEGIN:DAYLIGHT
TZOFFSETFROM:+0100
TZOFFSETTO:+0200
TZNAME:CEST
DTSTART:20250330T010000
END:DAYLIGHT
BEGIN:STANDARD
TZOFFSETFROM:+0200
TZOFFSETTO:+0100
TZNAME:CET
DTSTART:20251026T010000
END:STANDARD
BEGIN:DAYLIGHT
TZOFFSETFROM:+0100
TZOFFSETTO:+0200
TZNAME:CEST
DTSTART:20260329T010000
END:DAYLIGHT
BEGIN:STANDARD
TZOFFSETFROM:+0200
TZOFFSETTO:+0100
TZNAME:CET
DTSTART:20261025T010000
END:STANDARD
END:VTIMEZONE
BEGIN:VEVENT
DTSTART;TZID=Europe/Paris:20250809T210000
DTEND;TZID=Europe/Paris:20250809T230000
DTSTAMP:20260422T133949
CREATED:20250728T103019Z
LAST-MODIFIED:20260421T174750Z
UID:1505-1754773200-1754780400@assodupont.org
SUMMARY:Romanesse | 𝚌𝚘𝚗𝚌𝚎𝚛𝚝
DESCRIPTION:L'asso du pont a le plaisir de vous inviter au prochain concert le samedi 9 août à partir de 21h.Nous accueillons pour cette occasion : ROMANESSE\, un trio swing / jazz Manouche. \n\n\n\n\nCoralie possède une voix veloutée\, sublimée par son ukulélé\, soutenue par le guitariste virtuose Malik qui enflamme l’auditoire avec son complice de toujours Captain\, excellent contrebassiste\, improvisateur hors pair\, pilier rythmique du groupe.Comme d'habitude\, une assiette dînatoire vous est proposée à partir de 19h30 sur réservation nominative afin de faciliter la gestion et préparation par les bénévoles. \n\n\n\n\nPour faire une demande de réservation pour les assiettes\, vous pouvez utilisez le formulaire ci-dessous : \n\n\n\nRéservation assiette(s) 				\n											🫢 Oups ! Ce formulaire est maintenant expiré.
URL:https://assodupont.org/evenement/concert-romanesse/
LOCATION:asso du pont\, asso du pont\, 213 Chau. la Chaussée\, Quissac\, 30260\, France
ATTACH;FMTTYPE=image/png:https://assodupont.org/wp-content/uploads/adp-concert-romanesse.png
END:VEVENT
BEGIN:VEVENT
DTSTART;TZID=Europe/Paris:20250823T210000
DTEND;TZID=Europe/Paris:20250823T230000
DTSTAMP:20260422T133949
CREATED:20250811T111958Z
LAST-MODIFIED:20260421T174740Z
UID:1840-1755982800-1755990000@assodupont.org
SUMMARY:Muddy Bourbon | 𝚌𝚘𝚗𝚌𝚎𝚛𝚝
DESCRIPTION:L’asso du pont a le plaisir de vous inviter au prochain concert le samedi 23 août à partir de 21h. Nous accueillons pour cette occasion : Muddy Bourbon \n\n\n\n\nMuddy Bourbon réinterprète à sa sauce les premiers disques de blues : drogues à Memphis\, entourloupes à New Orleans\, femmes insoumises et alcools frelatés\, 8 musiciens pour un voyage dans le sud des États-Unis du début du siècle dernier ! \n\n\n\n\n\n\n\n\n\n\n\n\n\n\n\n\n\n\n\n\n\n\n🍽️ Réservation assiette\n\n\n\nUne assiette dînatoire vous est proposée uniquement sur réservation à partir de 19h30.L’espace étant limité\, les tables sont réservées à la restauration.  \n\n\n\nMerci de renseigner le formulaire au plus tard le 20 août afin d’aider les bénévoles à anticiper et préparer les assiettes et les tables en fonction des disponibilités. \n\n\n				\n											🫢 Oups ! Afin d'anticiper au mieux les préparations\, les réservations sont maintenant closes.
URL:https://assodupont.org/evenement/concert-muddy-bourbon/
LOCATION:asso du pont\, asso du pont\, 213 Chau. la Chaussée\, Quissac\, 30260\, France
ATTACH;FMTTYPE=image/png:https://assodupont.org/wp-content/uploads/adp-concert_muddy_bourbon.png
END:VEVENT
END:VCALENDAR