BEGIN:VCALENDAR
VERSION:2.0
PRODID:-//asso du pont - ECPv6.15.20//NONSGML v1.0//EN
CALSCALE:GREGORIAN
METHOD:PUBLISH
X-ORIGINAL-URL:https://assodupont.org
X-WR-CALDESC:Évènements pour asso du pont
REFRESH-INTERVAL;VALUE=DURATION:PT1H
X-Robots-Tag:noindex
X-PUBLISHED-TTL:PT1H
BEGIN:VTIMEZONE
TZID:Europe/Paris
BEGIN:DAYLIGHT
TZOFFSETFROM:+0100
TZOFFSETTO:+0200
TZNAME:CEST
DTSTART:20240331T010000
END:DAYLIGHT
BEGIN:STANDARD
TZOFFSETFROM:+0200
TZOFFSETTO:+0100
TZNAME:CET
DTSTART:20241027T010000
END:STANDARD
BEGIN:DAYLIGHT
TZOFFSETFROM:+0100
TZOFFSETTO:+0200
TZNAME:CEST
DTSTART:20250330T010000
END:DAYLIGHT
BEGIN:STANDARD
TZOFFSETFROM:+0200
TZOFFSETTO:+0100
TZNAME:CET
DTSTART:20251026T010000
END:STANDARD
BEGIN:DAYLIGHT
TZOFFSETFROM:+0100
TZOFFSETTO:+0200
TZNAME:CEST
DTSTART:20260329T010000
END:DAYLIGHT
BEGIN:STANDARD
TZOFFSETFROM:+0200
TZOFFSETTO:+0100
TZNAME:CET
DTSTART:20261025T010000
END:STANDARD
END:VTIMEZONE
BEGIN:VEVENT
DTSTART;TZID=Europe/Paris:20250627T200000
DTEND;TZID=Europe/Paris:20250627T220000
DTSTAMP:20260422T174302
CREATED:20250601T122110Z
LAST-MODIFIED:20260421T174820Z
UID:1272-1751054400-1751061600@assodupont.org
SUMMARY:Balkan Project | 𝚌𝚘𝚗𝚌𝚎𝚛𝚝
DESCRIPTION:
URL:https://assodupont.org/evenement/concert-balkan-project/
ATTACH;FMTTYPE=image/jpeg:https://assodupont.org/wp-content/uploads/adp-evenement_balkan-project.jpg
END:VEVENT
END:VCALENDAR