BEGIN:VCALENDAR
VERSION:2.0
PRODID:-//asso du pont - ECPv6.15.18//NONSGML v1.0//EN
CALSCALE:GREGORIAN
METHOD:PUBLISH
X-ORIGINAL-URL:https://assodupont.org
X-WR-CALDESC:Évènements pour asso du pont
REFRESH-INTERVAL;VALUE=DURATION:PT1H
X-Robots-Tag:noindex
X-PUBLISHED-TTL:PT1H
BEGIN:VTIMEZONE
TZID:Europe/Paris
BEGIN:DAYLIGHT
TZOFFSETFROM:+0100
TZOFFSETTO:+0200
TZNAME:CEST
DTSTART:20250330T010000
END:DAYLIGHT
BEGIN:STANDARD
TZOFFSETFROM:+0200
TZOFFSETTO:+0100
TZNAME:CET
DTSTART:20251026T010000
END:STANDARD
BEGIN:DAYLIGHT
TZOFFSETFROM:+0100
TZOFFSETTO:+0200
TZNAME:CEST
DTSTART:20260329T010000
END:DAYLIGHT
BEGIN:STANDARD
TZOFFSETFROM:+0200
TZOFFSETTO:+0100
TZNAME:CET
DTSTART:20261025T010000
END:STANDARD
BEGIN:DAYLIGHT
TZOFFSETFROM:+0100
TZOFFSETTO:+0200
TZNAME:CEST
DTSTART:20270328T010000
END:DAYLIGHT
BEGIN:STANDARD
TZOFFSETFROM:+0200
TZOFFSETTO:+0100
TZNAME:CET
DTSTART:20271031T010000
END:STANDARD
END:VTIMEZONE
BEGIN:VEVENT
DTSTART;TZID=Europe/Paris:20260421T160000
DTEND;TZID=Europe/Paris:20260421T180000
DTSTAMP:20260420T095736
CREATED:20260412T221833Z
LAST-MODIFIED:20260415T180105Z
UID:3434-1776787200-1776794400@assodupont.org
SUMMARY:Conférence Evelyne Fourreau
DESCRIPTION:pont et routes romaines \n\n\n\n\n\n\n\n\n\n\n\n\n\n\n\n\n\n\n\n\nponts et routes romaines (impressum)Télécharger
URL:https://assodupont.org/evenement/conference-evelyne-fourreau/
LOCATION:asso du pont\, asso du pont\, 213 Chau. la Chaussée\, Quissac\, 30260\, France
ATTACH;FMTTYPE=image/jpeg:https://assodupont.org/wp-content/uploads/ponts-et-routes-romaines.jpg
END:VEVENT
BEGIN:VEVENT
DTSTART;TZID=Europe/Paris:20260502T210000
DTEND;TZID=Europe/Paris:20260502T230000
DTSTAMP:20260420T095736
CREATED:20250910T190300Z
LAST-MODIFIED:20251031T145459Z
UID:2420-1777755600-1777762800@assodupont.org
SUMMARY:Concert Zanatane
DESCRIPTION:L’asso du pont a le plaisir de vous inviter au prochain concert le samedi 20 septembre à partir de 21h. Nous accueillons pour cette occasion : Zanatane \n\n\n\n\nZanatane est un jeune projet de Live Dub Mix Reggae.Yadz\, artiste malgache\, raconte son parcours de Diego-Suarez (Madagascar) jusqu'au sud de la France\, au travers de textes personnels et engagés sur des prods lancinantes mixées en live par Sticka Riddim.Une complicité sans faille\, un son prenant\, une bonne dose de soleil et de vibes positives à consommer sans modération !!! \n\n\n\n\n🎤 Une session open mic sera ouverte en dernière partie de soirée ! inscriS-TOI DÈS TON arrivée\n\n\n\n\n\n\n\n\n\n\n\n\n\n\n\n\n\n\nRetrouvez Zanatane en ligne et suivez-les sur les réseaux sociaux :\n\n\n\nZanatane\n\n\n\n\n\n\n\n\n\n\n🍽️ Réservation assiette\nUne assiette dînatoire surprise avec les produits et inspirations du coin et du moment vous sera proposée à partir de 19h30\, uniquement sur réservation 👇.L’espace étant limité\, les tables sont réservées à la restauration. \n\n\n\nMerci de renseigner le formulaire au plus tard le mercredi 29 avril afin d’aider les bénévoles à anticiper et préparer les assiettes et les tables en fonction des disponibilités. \n\n\n\nPrénom / Nom *Adresse de messagerie *TéléphoneNombre d'assiette(s) à réserver *Envoyer la demande de réservationVeuillez ne pas remplir ce champ. \n\n\n\n\n\n\n\n\n\n\n\n\n\n\n\nadp-concert_zanataneTélécharger
URL:https://assodupont.org/evenement/concert-zanatane/
LOCATION:asso du pont\, asso du pont\, 213 Chau. la Chaussée\, Quissac\, 30260\, France
ATTACH;FMTTYPE=image/jpeg:https://assodupont.org/wp-content/uploads/adp-A4-zanatane.jpg
END:VEVENT
END:VCALENDAR