BEGIN:VCALENDAR
VERSION:2.0
PRODID:-//asso du pont - ECPv6.15.18//NONSGML v1.0//EN
CALSCALE:GREGORIAN
METHOD:PUBLISH
X-WR-CALNAME:asso du pont
X-ORIGINAL-URL:https://assodupont.org
X-WR-CALDESC:Évènements pour asso du pont
REFRESH-INTERVAL;VALUE=DURATION:PT1H
X-Robots-Tag:noindex
X-PUBLISHED-TTL:PT1H
BEGIN:VTIMEZONE
TZID:Europe/Paris
BEGIN:DAYLIGHT
TZOFFSETFROM:+0100
TZOFFSETTO:+0200
TZNAME:CEST
DTSTART:20250330T010000
END:DAYLIGHT
BEGIN:STANDARD
TZOFFSETFROM:+0200
TZOFFSETTO:+0100
TZNAME:CET
DTSTART:20251026T010000
END:STANDARD
BEGIN:DAYLIGHT
TZOFFSETFROM:+0100
TZOFFSETTO:+0200
TZNAME:CEST
DTSTART:20260329T010000
END:DAYLIGHT
BEGIN:STANDARD
TZOFFSETFROM:+0200
TZOFFSETTO:+0100
TZNAME:CET
DTSTART:20261025T010000
END:STANDARD
BEGIN:DAYLIGHT
TZOFFSETFROM:+0100
TZOFFSETTO:+0200
TZNAME:CEST
DTSTART:20270328T010000
END:DAYLIGHT
BEGIN:STANDARD
TZOFFSETFROM:+0200
TZOFFSETTO:+0100
TZNAME:CET
DTSTART:20271031T010000
END:STANDARD
END:VTIMEZONE
BEGIN:VEVENT
DTSTART;TZID=Europe/Paris:20260307T210000
DTEND;TZID=Europe/Paris:20260307T230000
DTSTAMP:20260420T133524
CREATED:20260208T181225Z
LAST-MODIFIED:20260310T122245Z
UID:3261-1772917200-1772924400@assodupont.org
SUMMARY:Concert Open Folk
DESCRIPTION:L’asso du pont a le plaisir de vous inviter au prochain concert le samedi 7 mars à 21h00. Nous accueillons pour cette occasion : Open Folk \n\n\n\n\nTou·te·s les trois multi-instrumentistes\, ils nous emmènent dans l'univers de la musique folk & bluegrass\, dans lequel iels ont déniché des morceaux de différentes époques et contrées\, nous faisant voguer entre mélancolie et allégresse… avec quelques compos inspirées de ces sonorités qui vous seront présentées en acoustique\, avec joie et envie de partage !Jérémy : percussions\, chant\, guitare\, contrebasseClara : guitare\, chant\, ukulélé\, contrebasseArnaud : mandoline\, contrebasse\, chant \n\n\n\n\n\n\n\n\n\n\n\n\n\n\n\nRetrouvez Open Folk en ligne :\n\n\n\nFacebook\n\n\n\n\n\n\n\n\n\n\n🍽️ Réservation assiette\nUne assiette dînatoire (Gombo traditionnel de Louisiane) avec les produits et inspirations du moment vous sera proposée par l'équipe de bénévole de la Cantine\, servie sur table par nos bénévoles de 19h30 à 20h15\, uniquement sur réservation.L’espace étant limité en salle intérieure\, les tables sont aussi réservées en priorité à la restauration. 👇 \n\n\n\n			\n									🫢 Oups ! Afin d'anticiper au mieux les préparations\, les réservations sont maintenant closes.\n							\n			\n\n\n\n\n\n\n\n\n\n\n\n\n\nadp-concert-Open_FolkTélécharger
URL:https://assodupont.org/evenement/concert-open-folk/
LOCATION:asso du pont\, asso du pont\, 213 Chau. la Chaussée\, Quissac\, 30260\, France
ATTACH;FMTTYPE=image/jpeg:https://assodupont.org/wp-content/uploads/adp-concert-Open_Folk.jpg
END:VEVENT
END:VCALENDAR