BEGIN:VCALENDAR
VERSION:2.0
PRODID:-//asso du pont - ECPv6.15.20//NONSGML v1.0//EN
CALSCALE:GREGORIAN
METHOD:PUBLISH
X-WR-CALNAME:asso du pont
X-ORIGINAL-URL:https://assodupont.org
X-WR-CALDESC:Évènements pour asso du pont
REFRESH-INTERVAL;VALUE=DURATION:PT1H
X-Robots-Tag:noindex
X-PUBLISHED-TTL:PT1H
BEGIN:VTIMEZONE
TZID:Europe/Paris
BEGIN:DAYLIGHT
TZOFFSETFROM:+0100
TZOFFSETTO:+0200
TZNAME:CEST
DTSTART:20240331T010000
END:DAYLIGHT
BEGIN:STANDARD
TZOFFSETFROM:+0200
TZOFFSETTO:+0100
TZNAME:CET
DTSTART:20241027T010000
END:STANDARD
BEGIN:DAYLIGHT
TZOFFSETFROM:+0100
TZOFFSETTO:+0200
TZNAME:CEST
DTSTART:20250330T010000
END:DAYLIGHT
BEGIN:STANDARD
TZOFFSETFROM:+0200
TZOFFSETTO:+0100
TZNAME:CET
DTSTART:20251026T010000
END:STANDARD
BEGIN:DAYLIGHT
TZOFFSETFROM:+0100
TZOFFSETTO:+0200
TZNAME:CEST
DTSTART:20260329T010000
END:DAYLIGHT
BEGIN:STANDARD
TZOFFSETFROM:+0200
TZOFFSETTO:+0100
TZNAME:CET
DTSTART:20261025T010000
END:STANDARD
END:VTIMEZONE
BEGIN:VEVENT
DTSTART;TZID=Europe/Paris:20250906T210000
DTEND;TZID=Europe/Paris:20250906T230000
DTSTAMP:20260422T013348
CREATED:20250830T113033Z
LAST-MODIFIED:20260421T174734Z
UID:2279-1757192400-1757199600@assodupont.org
SUMMARY:Cozik & Faya Pyd | 𝚌𝚘𝚗𝚌𝚎𝚛𝚝
DESCRIPTION:L’asso du pont a le plaisir de vous inviter au prochain concert le samedi 6 septembre à partir de 21h. Nous accueillons pour cette occasion : Cozik & Faya Pyd \n\n\n\n\nCozik & Faya Pyd mélangent reggae\, hip-hop et chanson française : voyages\, quartiers\, amitiés et soirées sans fin… Entre réflexion et autodérision\, leur duo enflamme la scène avec une énergie communicative et des vibrations festives venues de tous horizons ! \n\n\n\n\n\n\n\n\n\n\n\n\n\n\n\n\n\n\n\n\n\n\n\n\n\n\n\n\n\n\n\n\n\n\n🍽️ Réservation assiette\n\n\n\nUne assiette dînatoire vous est proposée uniquement sur réservation à partir de 19h30.L’espace étant limité\, les tables sont réservées à la restauration.  \n\n\n\nMerci de renseigner le formulaire au plus tard le 3 septembre afin d’aider les bénévoles à anticiper et préparer les assiettes et les tables en fonction des disponibilités. \n\n\n\n				\n											🫢 Oups ! Afin d'anticiper au mieux les préparations\, les réservations sont maintenant closes.
URL:https://assodupont.org/evenement/concert-cozik-faya-pyd/
LOCATION:asso du pont\, asso du pont\, 213 Chau. la Chaussée\, Quissac\, 30260\, France
ATTACH;FMTTYPE=image/png:https://assodupont.org/wp-content/uploads/adp-concert-cozik-faya-pyd.png
END:VEVENT
END:VCALENDAR